BEGIN:VCALENDAR
VERSION:2.0
PRODID:-//https://www.skipa.com///NONSGML kigkonsult.se iCalcreator 2.10.15//
METHOD:PUBLISH
BEGIN:VEVENT
UID:20260421T090631UTC-63914COhKt@https://www.skipa.com/
DTSTAMP:20260421T090631Z
DESCRIPTION:An evening of downhill tubing fun awaits at the Bubly Tubing Lo
 dge\, featuring free Bubly samples\, pizza\, snacks\, and swag. Guests are
  encouraged to purchase tickets online in advance\, as this popular event 
 may sell out. The schedule is subject to change based on weather and snow 
 conditions. https://www.skipa.com/plan-a-trip/events/calendar/event/2504-t
 hursday-night-bubly-bash
DTSTART:20250206T210000Z
DTEND:20250207T010000Z
LOCATION:Seven Springs Resort\, Seven Springs (Seven Springs Resort\, Seven
  Springs)
SUMMARY:Thursday Night Bubly Bash
URL:https://www.skipa.com/plan-a-trip/events/calendar/event/2504-thursday-n
 ight-bubly-bash
END:VEVENT
END:VCALENDAR
